BEGIN:VCALENDAR
VERSION:2.0
PRODID:-//Contratero//ES
CALSCALE:GREGORIAN
METHOD:PUBLISH
BEGIN:VEVENT
UID:32980-2025/PRO 33-2025@contratero.es
DTSTAMP:20260421T081027Z
DTSTART:20251020T235959
DTEND:20251021T005959
SUMMARY:Cierre: Servicios de ampliacion del software del Negociado
DESCRIPTION:Servicios de ampliacion del software del Negociado de estadística ePOB en ejecución de proyectos con cargo a Fondos procedentes del Plan de Recuperacion\, Transformacion y Resiliencia financiados por l...\\n\\nOrganismo: Órgano de Contratación de la Ciudad Autónoma de Ceuta\\n\\nVer en Contratero: https://contratero.es/contracts/32980-2025/PRO 33-2025
URL:https://contratero.es/contracts/32980-2025/PRO 33-2025
STATUS:CONFIRMED
BEGIN:VALARM
TRIGGER:-P1D
ACTION:DISPLAY
DESCRIPTION:Recordatorio: Servicios de ampliacion del so
END:VALARM
END:VEVENT
END:VCALENDAR